BEGIN:VCALENDAR
VERSION:2.0
PRODID:-//ASHFORD AREA ARTS COUNCIL - ECPv6.15.20//NONSGML v1.0//EN
CALSCALE:GREGORIAN
METHOD:PUBLISH
X-WR-CALNAME:ASHFORD AREA ARTS COUNCIL
X-ORIGINAL-URL:https://ashfordarts.org
X-WR-CALDESC:Events for ASHFORD AREA ARTS COUNCIL
REFRESH-INTERVAL;VALUE=DURATION:PT1H
X-Robots-Tag:noindex
X-PUBLISHED-TTL:PT1H
BEGIN:VTIMEZONE
TZID:America/New_York
BEGIN:DAYLIGHT
TZOFFSETFROM:-0500
TZOFFSETTO:-0400
TZNAME:EDT
DTSTART:20250309T070000
END:DAYLIGHT
BEGIN:STANDARD
TZOFFSETFROM:-0400
TZOFFSETTO:-0500
TZNAME:EST
DTSTART:20251102T060000
END:STANDARD
BEGIN:DAYLIGHT
TZOFFSETFROM:-0500
TZOFFSETTO:-0400
TZNAME:EDT
DTSTART:20260308T070000
END:DAYLIGHT
BEGIN:STANDARD
TZOFFSETFROM:-0400
TZOFFSETTO:-0500
TZNAME:EST
DTSTART:20261101T060000
END:STANDARD
BEGIN:DAYLIGHT
TZOFFSETFROM:-0500
TZOFFSETTO:-0400
TZNAME:EDT
DTSTART:20270314T070000
END:DAYLIGHT
BEGIN:STANDARD
TZOFFSETFROM:-0400
TZOFFSETTO:-0500
TZNAME:EST
DTSTART:20271107T060000
END:STANDARD
END:VTIMEZONE
BEGIN:VEVENT
DTSTART;VALUE=DATE:20260516
DTEND;VALUE=DATE:20260517
DTSTAMP:20260421T090455
CREATED:20260416T163407Z
LAST-MODIFIED:20260416T163407Z
UID:7232-1778889600-1778975999@ashfordarts.org
SUMMARY:Last Day - Call to Artists for A Summer's Palette
DESCRIPTION:Last Day to enter for our A Summer’s Palette show.
URL:https://ashfordarts.org/event/last-day-call-to-artists-for-a-summers-palette/
END:VEVENT
END:VCALENDAR