BEGIN:VCALENDAR
VERSION:2.0
PRODID:-//ASHFORD AREA ARTS COUNCIL - ECPv6.15.20//NONSGML v1.0//EN
CALSCALE:GREGORIAN
METHOD:PUBLISH
X-WR-CALNAME:ASHFORD AREA ARTS COUNCIL
X-ORIGINAL-URL:https://ashfordarts.org
X-WR-CALDESC:Events for ASHFORD AREA ARTS COUNCIL
REFRESH-INTERVAL;VALUE=DURATION:PT1H
X-Robots-Tag:noindex
X-PUBLISHED-TTL:PT1H
BEGIN:VTIMEZONE
TZID:America/New_York
BEGIN:DAYLIGHT
TZOFFSETFROM:-0500
TZOFFSETTO:-0400
TZNAME:EDT
DTSTART:20250309T070000
END:DAYLIGHT
BEGIN:STANDARD
TZOFFSETFROM:-0400
TZOFFSETTO:-0500
TZNAME:EST
DTSTART:20251102T060000
END:STANDARD
BEGIN:DAYLIGHT
TZOFFSETFROM:-0500
TZOFFSETTO:-0400
TZNAME:EDT
DTSTART:20260308T070000
END:DAYLIGHT
BEGIN:STANDARD
TZOFFSETFROM:-0400
TZOFFSETTO:-0500
TZNAME:EST
DTSTART:20261101T060000
END:STANDARD
BEGIN:DAYLIGHT
TZOFFSETFROM:-0500
TZOFFSETTO:-0400
TZNAME:EDT
DTSTART:20270314T070000
END:DAYLIGHT
BEGIN:STANDARD
TZOFFSETFROM:-0400
TZOFFSETTO:-0500
TZNAME:EST
DTSTART:20271107T060000
END:STANDARD
END:VTIMEZONE
BEGIN:VEVENT
DTSTART;TZID=America/New_York:20260618T083000
DTEND;TZID=America/New_York:20260618T160000
DTSTAMP:20260420T163112
CREATED:20260416T164306Z
LAST-MODIFIED:20260416T164441Z
UID:7234-1781771400-1781798400@ashfordarts.org
SUMMARY:Bus Trip -  Normal Rockwell Museum June 18
DESCRIPTION:The AAAC\, with support from Windham Arts Org\,  will have another fun bus trip – this time to the Norman Rockwell Museum in Stockbridge Ma.\, Thursday June 18\n-$75 covers bus and admission per person.\n-Leave Knowlton Hall 8:30 am\, return 4 pm\n– Checks only\, in advance\, made out to Windham Arts\, with AAAC BUS trip” in memo line.\n-please mail checks to Steve Gerling\, 240 Westford Hill Rd\, Ashford\, Ct. 06278\n-all reservations must be RECEIVED BY FRIDAY JUNE 5!\nPlease note: you will get confirmation of receipt of reservation (INCLUDE EMAIL!) but checks will not be deposited until the bus is filled. If we cannot fill a minimum number of seats the trip will be cancelled and checks returned.
URL:https://ashfordarts.org/event/bus-trip-normal-rockwell-museum-june-18/
LOCATION:Knowlton Memorial Hall\, 25 Pompey Hollow RD\, Ashford\, 06278\, United States
CATEGORIES:Bus Tours
END:VEVENT
END:VCALENDAR