BEGIN:VCALENDAR
VERSION:2.0
PRODID:-//ASHFORD AREA ARTS COUNCIL - ECPv6.15.20//NONSGML v1.0//EN
CALSCALE:GREGORIAN
METHOD:PUBLISH
X-WR-CALNAME:ASHFORD AREA ARTS COUNCIL
X-ORIGINAL-URL:https://ashfordarts.org
X-WR-CALDESC:Events for ASHFORD AREA ARTS COUNCIL
REFRESH-INTERVAL;VALUE=DURATION:PT1H
X-Robots-Tag:noindex
X-PUBLISHED-TTL:PT1H
BEGIN:VTIMEZONE
TZID:America/New_York
BEGIN:DAYLIGHT
TZOFFSETFROM:-0500
TZOFFSETTO:-0400
TZNAME:EDT
DTSTART:20250309T070000
END:DAYLIGHT
BEGIN:STANDARD
TZOFFSETFROM:-0400
TZOFFSETTO:-0500
TZNAME:EST
DTSTART:20251102T060000
END:STANDARD
BEGIN:DAYLIGHT
TZOFFSETFROM:-0500
TZOFFSETTO:-0400
TZNAME:EDT
DTSTART:20260308T070000
END:DAYLIGHT
BEGIN:STANDARD
TZOFFSETFROM:-0400
TZOFFSETTO:-0500
TZNAME:EST
DTSTART:20261101T060000
END:STANDARD
BEGIN:DAYLIGHT
TZOFFSETFROM:-0500
TZOFFSETTO:-0400
TZNAME:EDT
DTSTART:20270314T070000
END:DAYLIGHT
BEGIN:STANDARD
TZOFFSETFROM:-0400
TZOFFSETTO:-0500
TZNAME:EST
DTSTART:20271107T060000
END:STANDARD
END:VTIMEZONE
BEGIN:VEVENT
DTSTART;TZID=America/New_York:20260627T100000
DTEND;TZID=America/New_York:20260627T160000
DTSTAMP:20260420T163147
CREATED:20260330T233403Z
LAST-MODIFIED:20260330T234241Z
UID:7129-1782554400-1782576000@ashfordarts.org
SUMMARY:A Summer's Palette Art Show June 27\, 2026\, Rain date 6/28
DESCRIPTION:A SUMMERS’ PALETTE is the Ashford Area Arts Council’s annual art and craft show on the grounds of the Westford Hill Distillers in Ashford CT. The show is a well attended event\, and has become a yearly destination for guests\, many travelling in excess of 50 miles to enjoy it.  This year we are increasing the number of vendors and greatly expanding our advertising and marketing efforts with the expectation of becoming a 2-day show in 2027. \nBrowse through the gardens of this historic property\, and talk to more than 30 local artists about their work. Try your hand at painting en plein air or talk with local gardeners about pollinators and plants. A kid’s activity table will be on hand\, so bring the family (no pets\, please).\nEnjoy a craft cocktail from Westford Hill Distillers while you enjoy a snack  or lunch while browsing the grounds. \nEvent is free; donations to the Ashford Area Arts Council are welcome. More info and see a slideshow of participating artists.
URL:https://ashfordarts.org/event/a-summers-palette-jun-27-2026/
LOCATION:Westford Hills Distillers\, 196 Chatey Rd\, Ashford\, CT\, 06278\, United States
CATEGORIES:Art Shows
END:VEVENT
END:VCALENDAR